BEGIN:VCALENDAR
VERSION:2.0
CALSCALE:GREGORIAN
PRODID:adamgibbons/ics
METHOD:PUBLISH
X-PUBLISHED-TTL:PT1H
BEGIN:VEVENT
UID:1775@camifa.net
SUMMARY:Global Sumud Flotilla - again
DTSTAMP:20260424T171532Z
DTSTART:20260503T040000Z
DTEND:20260503T215500Z
URL:https://camifa.net/event/global-sumud-flotilla-again
LOCATION:vari porti - Mar Mediterraneo
STATUS:CONFIRMED
CATEGORIES:free palestine,global sumud flotilla
END:VEVENT
END:VCALENDAR
